BEGIN:VCALENDAR
PRODID:-//Det Danske Spejderkorps//NONSGML Gruppeweb//EN
VERSION:2.0
CALSCALE:GREGORIAN
X-PUBLISHED-TTL:PT1H
X-WR-CALNAME:Minier i Møn Gruppe
METHOD:PUBLISH
BEGIN:VEVENT
UID:gruppeweb.dk:3214:event:922
DTSTAMP:20260425T152400Z
LAST-MODIFIED:20260213T080254Z
SUMMARY:Mikro og Mini møde
DESCRIPTION:Mærke - Færdighed (Science-Pirat)\n\n
URL:https://www.moenspejderne.dk/begivenhed/mikro-og-mini-moede-1
DTSTART:20250503T070000Z
DTEND:20250503T100000Z
LOCATION:Møn Spejderne\, Kobbelvej 28\, 4780 Stege
END:VEVENT
BEGIN:VEVENT
UID:gruppeweb.dk:3214:event:803
DTSTAMP:20260425T152400Z
LAST-MODIFIED:20250303T194318Z
SUMMARY:Spejderdag 2025
DESCRIPTION:Spejder er store oplevelser\, fællesskab\, sug i maven\, sved 
 på panden og  \nselvtillid resten af livet. Det kan du nu opleve\, når v
 i d. 11. maj 2025 kl.  \n10-13:00 holder Spejderdag\, og inviterer alle me
 d til spejderaktiviteter i  \ngruppen. På Spejderdag har børn og deres v
 oksne mulighed for at komme på  \nbesøg i spejdergruppen og se\, høre o
 g opleve\, hvordan det er at være  \nspejder. *Vi skal lave  bål\, og 
 lege med de 4 elementer og have det sjovt  \nsammen med en masse andre bø
 rn i naturen.*\n\nSpejderdagen bliver både bliver sjov\, udfordrende og h
 yggelig. Når dagen er  \nomme\, har du helt sikkert lært noget nyt – o
 g fået nye venner undervejs.\n\nTag tøj på efter vejret\, for vi kommer
  til at være udenfor hele dagen.\n\nVi glæder os til at byde jer velkomm
 en til spejder.\n\n*Mødested:* \nSpejderhytten\nKobbelvej 28\n4780 Stege
 \n\nTilmeld jer her https://www.moenspejderne.dk/kampagne/spejderdag\n\n
URL:https://www.moenspejderne.dk/begivenhed/spejderdag-2025
DTSTART:20250511T080000Z
DTEND:20250511T110000Z
LOCATION:Møn Spejderne\, Kobbelvej 28\, 4780 Stege
END:VEVENT
BEGIN:VEVENT
UID:gruppeweb.dk:3214:event:927
DTSTAMP:20260425T152400Z
LAST-MODIFIED:20260213T080253Z
SUMMARY:Mikro og Mini møde
DESCRIPTION:Mærke - Færdighed (Science-Pirat)\n\n
URL:https://www.moenspejderne.dk/begivenhed/mikro-og-mini-moede-4
DTSTART:20250517T070000Z
DTEND:20250517T100000Z
LOCATION:Møn Spejderne\, Kobbelvej 28\, 4780 Stege
END:VEVENT
BEGIN:VEVENT
UID:gruppeweb.dk:3214:event:804
DTSTAMP:20260425T152400Z
LAST-MODIFIED:20250303T201401Z
SUMMARY:Loppemarked
DESCRIPTION:.... 17.maj  2025 kl. 10-13:00\n\n.... Kobbelvej 28\, 4780 Ste
 ge\n\n\nSå er tiden kommet til Møn Spejdernes årlige loppemarked. Det e
 r en  \nenestående mulighed for at gøre årets\, ja måske årtiets fund
 . Vi sælger  \nmasser af ting \, som venter på et nyt hjem\, og som er f
 ærdige med at sætte  \nklimaaftryk\, så du kan nemt lette lommerne for 
 kontanter eller afprøve  \nmobilepay\, med god samvittighed og samtidigt 
 støtte udvikling af børn og  \nunge spejdere på Møn. Vi kommer til at 
 have et bredt udvalg af både  \nmøbler\, legetøj\, nips og hvad der ell
 ers hører til\, på et gammeldags  \nloppemarked.\n\n * Kaffe\n * Te\, \
 n * Vand \n * Kage\n * Sandwich\n * Skumfiduser på bål\n * Spejder bode
 r med sjove aktiviteter\n\nVi glæder os til at se jer hos Møn Spejderne 
 i Stege\n\n\n
URL:https://www.moenspejderne.dk/begivenhed/loppemarked-2
DTSTART:20250517T080000Z
DTEND:20250517T110000Z
LOCATION:Møn Spejderne\, Kobbelvej 28\, 4780 Stege
END:VEVENT
BEGIN:VEVENT
UID:gruppeweb.dk:3214:event:815
DTSTAMP:20260425T152400Z
LAST-MODIFIED:20260213T080704Z
SUMMARY:Spise med spejder
DESCRIPTION:Vi mødes ved/i spejderhytten kl. 17:00 og spiser sammen. tilme
 ld jeg her via  \nhjemmesiden. søskende og bedste forældre er selvfølge
 ligt også velkommen.\n\n*Prisen pr. deltager er 10\,-*\n\nDer er nogle ak
 tive ledere og bestyrelses medlemmer der laver en stor omgang  \ngryderet 
 og så hygger vi os og taler og spejder\, spejdere natur og andre  \ninter
 essante emner.\n\n \n\n
URL:https://www.moenspejderne.dk/begivenhed/spise-med-spejder
DTSTART:20250520T150000Z
DTEND:20250520T160000Z
LOCATION:Møn Spejderne\, Kobbelvej 28\, 4780 Stege
END:VEVENT
BEGIN:VEVENT
UID:gruppeweb.dk:3214:event:921
DTSTAMP:20260425T152400Z
LAST-MODIFIED:20260213T080250Z
SUMMARY:Mikro og Mini møde
DESCRIPTION:Bushcraft håndværk\, bålmad ( evt. smedning\, batik på t-sh
 irt\, mad over  \nbål)\n\n
URL:https://www.moenspejderne.dk/begivenhed/mikro-og-mini-moede-0
DTSTART:20250531T070000Z
DTEND:20250531T100000Z
LOCATION:Møn Spejderne\, Kobbelvej 28\, 4780 Stege
END:VEVENT
BEGIN:VEVENT
UID:gruppeweb.dk:3214:event:818
DTSTAMP:20260425T152400Z
LAST-MODIFIED:20250529T115905Z
SUMMARY:Mikro og Mini sommerlejr 2025
DESCRIPTION:Kære Mikro-MinierPå årets sommerlejr weekend drager vi af st
 ed mod sydens  \nvarme.\nVi skal opleve de vilde dyr på savannen\, møde 
 fortidens drabelige\nkæmper i junglen\,\nhygge i solnedgangen og meget\, 
 meget mere.\n
URL:https://www.moenspejderne.dk/begivenhed/mikro-og-mini-sommerlejr-2025
DTSTART:20250627T144500Z
DTEND:20250629T090000Z
LOCATION:Møn Spejderne\, Kobbelvej 28\, 4780 Stege
END:VEVENT
BEGIN:VEVENT
UID:gruppeweb.dk:3214:event:833
DTSTAMP:20260425T152400Z
LAST-MODIFIED:20250810T181741Z
SUMMARY:Bål arrangement
DESCRIPTION:Igen i år starter vi spejderåret med uddeling af årsstjerner
 \, Oprykning  \ntil den nye Aldersgruppe.\n\nVi mødes ved hytten 23. augu
 st kl. 10:00 hvor forældre\, bedsteforældre og  \nsøskende.\n\nVi skal 
 både råbe\, lege\, synge og afholde vores ceremonier. \n\nVi slutter me
 d at spise sammen. Spise med spejder\, hvor troppen står for  \nmaden\, s
 ammen med os alle sammen.\n\nVi slutter ca. kl. 12:30\n\n
URL:https://www.moenspejderne.dk/begivenhed/baal-arrangement
DTSTART:20250823T080000Z
DTEND:20250823T103000Z
LOCATION:Hytten\, Kobbelvej 28\, Kobbelvej 28\, 4780 Stege
END:VEVENT
BEGIN:VEVENT
UID:gruppeweb.dk:3214:event:819
DTSTAMP:20260425T152400Z
LAST-MODIFIED:20260213T080655Z
SUMMARY:Spise med spejder
DESCRIPTION:Vi mødes ved/i spejderhytten kl. 10:00 til bålaften og spiser
  sammen til  \nfrokost. tilmeld jeg her via hjemmesiden. søskende og beds
 te forældre er  \nselvfølgeligt også velkommen.\n\n*Prisen pr. deltager
  er 10\,-*\n\nDer er nogle aktive ledere og bestyrelses medlemmer der lave
 r en stor omgang  \ngryderet og så hygger vi os og taler og spejder\, spe
 jdere natur og andre  \ninteressante emner.\n\n \n\n
URL:https://www.moenspejderne.dk/begivenhed/spise-med-spejder-2
DTSTART:20250823T092500Z
DTEND:20250823T103000Z
LOCATION:Møn Spejderne\, Kobbelvej 28\, 4780 Stege
END:VEVENT
BEGIN:VEVENT
UID:gruppeweb.dk:3214:event:931
DTSTAMP:20260425T152400Z
LAST-MODIFIED:20260213T080247Z
SUMMARY:Mikro og Mini møde
DESCRIPTION:Buschcraft\n\n
URL:https://www.moenspejderne.dk/begivenhed/mikro-og-mini-moede-8
DTSTART:20250906T070000Z
DTEND:20250906T100000Z
LOCATION:Møn Spejderne\, Kobbelvej 28\, 4780 Stege
END:VEVENT
BEGIN:VEVENT
UID:gruppeweb.dk:3214:event:820
DTSTAMP:20260425T152400Z
LAST-MODIFIED:20260213T080652Z
SUMMARY:Nat i naturen
DESCRIPTION:“Tag børnene  eller vennerne med til en hyggelig aften med 
 bål\,  \novernatning og Oplevelser! \n\nVi skal opleve skoven om natten 
 med UV lygter og helt uden lys\, se på  \nstjerner og hygge om bålet med
  skumfiduser\, bålmad og snobrød\, i den  \nfriske natteluft.\n\nOg så 
 kan i prøve at overnatte i trætoptelte\, hængekøjer\, i telt eller  \n
 bivuak.\n\nKom med og oplev når naturen er allermest stemningsfuld!”\n\
 n \n\n \n\n.... Om Nat i Naturen\n\nMange danskere har ikke oplevet en n
 at i naturen. Nat i Naturen vil åbne  \ndine øjne for de unikke naturmæ
 ssige og menneskelige oplevelser\, der ligger  \ngemt i natten.\n\nNaturen
  er unik om natten – og en nat i naturen er noget unikt for  \nmennesken
 e\, der oplever den.\n\nNatten giver for eksempel mulighed for at opleve n
 ataktive dyr\, og lyde og  \nlugte er anderledes end om dagen. Det er om n
 atten\, at man kan opleve  \nstjernerne kigge frem\, og stilheden sænke s
 ig. Mørket skærper sanserne.  \nFællesskabet om et bål i mørket er no
 get særligt.\n\nNat i Naturen skal få jer ud og opleve en nat i naturen 
 – hvad enten man  \ner ung eller gammel. Det skal åbne dine øjne for n
 aturen på et tidspunkt  \naf døgnet\, hvor de færreste kender den. Det 
 skal vise\, at natten også kan  \nrumme fantastiske naturoplevelser for a
 lle.\n\nVi vil have jer tættere på naturen og give jer et tættere forho
 ld til  \nnaturen og på sigt\, at Nat i Naturen bliver omdrejningspunkt f
 or samtaler  \nom\, hvordan i kan komme ud og opleve naturen.\n\nNat i Nat
 uren er et partnerskab mellem Det Danske Spejderkorps\,  \nFriluftsrådet\
 , Naturstyrelsen og Ungdomsringen.\n\n \n\nStore naturoplevelser sover ik
 ke\n\n
URL:https://www.moenspejderne.dk/begivenhed/nat-i-naturen
DTSTART:20250906T140000Z
DTEND:20250907T080000Z
LOCATION:Møn Spejderne\, Kobbelvej 28\, 4780 Stege
END:VEVENT
BEGIN:VEVENT
UID:gruppeweb.dk:3214:event:837
DTSTAMP:20260425T152400Z
LAST-MODIFIED:20260213T080614Z
SUMMARY:Spise med spejder
DESCRIPTION:Vi mødes ved/i spejderhytten kl. 17:00 og spiser sammen. tilme
 ld jeg her via  \nhjemmesiden. søskende og bedste forældre er selvfølge
 ligt også velkommen.\n\n*Prisen pr. deltager er 10\,-*\n\nDer er nogle ak
 tive ledere og bestyrelses medlemmer der laver en stor omgang  \ngryderet 
 og så hygger vi os og taler og spejder\, spejdere\, natur og andre  \nint
 eressante emner.\n\n \n\n
URL:https://www.moenspejderne.dk/begivenhed/spise-med-spejder-3
DTSTART:20250924T150000Z
DTEND:20250924T160000Z
LOCATION:Møn Spejderne\, Kobbelvej 28\, 4780 Stege
END:VEVENT
BEGIN:VEVENT
UID:gruppeweb.dk:3214:event:834
DTSTAMP:20260425T152400Z
LAST-MODIFIED:20250808T113549Z
SUMMARY:Tema dag pioneer
DESCRIPTION:Alle alders grupper mødes og laver pioner ar bejde med rafter 
 og snor.\n\nDet bliver fedt med en dag sammen hvor vi giver den gas med sa
 mme emne.\n\n
URL:https://www.moenspejderne.dk/begivenhed/tema-dag-pioneer
DTSTART:20251004T070000Z
DTEND:20251004T100000Z
LOCATION:Møn Spejderne\, Kobbelvej 28\, 4780 Stege
END:VEVENT
BEGIN:VEVENT
UID:gruppeweb.dk:3214:event:839
DTSTAMP:20260425T152400Z
LAST-MODIFIED:20251005T092238Z
SUMMARY:Mikro og Mini træf 2025
DESCRIPTION:Årets Mikro og Mini træf 2025\n\n\n\n\n
URL:https://www.moenspejderne.dk/begivenhed/mikro-og-mini-traef-2025
DTSTART:20251025T070000Z
DTEND:20251025T140000Z
LOCATION:Rollo Skolen\, Gl Strandvej 12\, 4640 Faxe
END:VEVENT
BEGIN:VEVENT
UID:gruppeweb.dk:3214:event:846
DTSTAMP:20260425T152400Z
LAST-MODIFIED:20251011T045334Z
SUMMARY:Spise med spejder 17-18:00
DESCRIPTION:Vi mødes ved/i spejderhytten kl. 17:00 og spiser sammen. tilme
 ld jeg her via  \nhjemmesiden. søskende og bedste forældre er selvfølge
 ligt også velkommen.\n\n*Prisen pr. deltager er 10\,-*\n\nDer er nogle ak
 tive ledere og bestyrelses medlemmer der laver en stor omgang  \ngryderet 
 og så hygger vi os og taler og spejder\, spejdere\, natur og andre  \nint
 eressante emner.\n\n \n\n
URL:https://www.moenspejderne.dk/begivenhed/spise-med-spejder-17-1800
DTSTART:20251030T160000Z
DTEND:20251030T170000Z
LOCATION:Møn Spejderne\, Kobbelvej 28\, 4780 Stege
END:VEVENT
BEGIN:VEVENT
UID:gruppeweb.dk:3214:event:932
DTSTAMP:20260425T152400Z
LAST-MODIFIED:20260213T080246Z
SUMMARY:Mikro og Mini møde
DESCRIPTION:Halloween (mærke)\n\n
URL:https://www.moenspejderne.dk/begivenhed/mikro-og-mini-moede-9
DTSTART:20251101T080000Z
DTEND:20251101T110000Z
LOCATION:Møn Spejderne\, Kobbelvej 28\, 4780 Stege
END:VEVENT
BEGIN:VEVENT
UID:gruppeweb.dk:3214:event:930
DTSTAMP:20260425T152400Z
LAST-MODIFIED:20260213T080243Z
SUMMARY:Mikro og Mini møde
DESCRIPTION:Lagekageløb\n\n
URL:https://www.moenspejderne.dk/begivenhed/mikro-og-mini-moede-7
DTSTART:20251115T080000Z
DTEND:20251115T110000Z
LOCATION:Møn Spejderne\, Kobbelvej 28\, 4780 Stege
END:VEVENT
BEGIN:VEVENT
UID:gruppeweb.dk:3214:event:929
DTSTAMP:20260425T152400Z
LAST-MODIFIED:20260213T080240Z
SUMMARY:Mikro og Mini møde
DESCRIPTION:Julemandens tinvæksted\, håndværk og bageri\n\n
URL:https://www.moenspejderne.dk/begivenhed/mikro-og-mini-moede-6
DTSTART:20251128T080000Z
DTEND:20251128T110000Z
LOCATION:Møn Spejderne\, Kobbelvej 28\, 4780 Stege
END:VEVENT
BEGIN:VEVENT
UID:gruppeweb.dk:3214:event:928
DTSTAMP:20260425T152400Z
LAST-MODIFIED:20260213T080239Z
SUMMARY:Mikro og Mini møde
DESCRIPTION:Juleafslutning\, julekonkurrencer og julelege.\n\n
URL:https://www.moenspejderne.dk/begivenhed/mikro-og-mini-moede-5
DTSTART:20251213T080000Z
DTEND:20251213T110000Z
LOCATION:Møn Spejderne\, Kobbelvej 28\, 4780 Stege
END:VEVENT
BEGIN:VEVENT
UID:gruppeweb.dk:3214:event:918
DTSTAMP:20260425T152400Z
LAST-MODIFIED:20260225T182433Z
SUMMARY:Spise med spejder 17-18:00
DESCRIPTION:Vi mødes ved/i spejderhytten kl. 17:00 og spiser sammen. tilme
 ld jeg her via  \nhjemmesiden. søskende og bedste forældre er selvfølge
 ligt også velkommen.\n\n*Prisen pr. deltager er 10\,-*\n\nDer er nogle ak
 tive ledere og bestyrelses medlemmer der laver en stor omgang  \ngryderet 
 og så hygger vi os og taler og spejder\, spejdere\, natur og andre  \nint
 eressante emner.\n\n \n\n
URL:https://www.moenspejderne.dk/begivenhed/spise-med-spejder-17-1800-0
DTSTART:20260113T160000Z
DTEND:20260113T170000Z
LOCATION:Møn Spejderne\, Kobbelvej 28\, 4780 Stege
END:VEVENT
BEGIN:VEVENT
UID:gruppeweb.dk:3214:event:919
DTSTAMP:20260425T152400Z
LAST-MODIFIED:20260104T144825Z
SUMMARY:Spise med spejder 17-18:00
DESCRIPTION:Vi mødes ved/i spejderhytten kl. 17:00 og spiser sammen. tilme
 ld jeg her via  \nhjemmesiden. søskende og bedste forældre er selvfølge
 ligt også velkommen.\n\n*Prisen pr. deltager er 10\,-*\n\nDer er nogle ak
 tive ledere og bestyrelses medlemmer der laver en stor omgang  \ngryderet 
 og så hygger vi os og taler og spejder\, spejdere\, natur og andre  \nint
 eressante emner.\n\n \n\n
URL:https://www.moenspejderne.dk/begivenhed/spise-med-spejder-17-1800-1
DTSTART:20260219T160000Z
DTEND:20260219T170000Z
LOCATION:Møn Spejderne\, Kobbelvej 28\, 4780 Stege
END:VEVENT
BEGIN:VEVENT
UID:gruppeweb.dk:3214:event:916
DTSTAMP:20260425T152400Z
LAST-MODIFIED:20260301T073624Z
SUMMARY:Fælles gruppeweekend 2026
DESCRIPTION:Gruppeweekend Indbydelse kommer **\n\n*\n*\n\n*Weekenden indeh
 older blandt andet: \n*Sjovt og spændende postløb for alle om lørdagen
 \, hvor lederne er klædt  \nud. \nVarm spejdergryde til frokost lørdag\
 , så ingen madpakke med.\nSpejderbiograf med dejlig frugt\, kage og saft.
 \nSuperlækker aftensmad lavet af vores egen Moody.\nPralende god underhol
 dning inden sengetid.\nSpændende natløb for Junior og Trop.\n\n*For at h
 jælpe med at løse weekendens opgaver\, skal du medbringe:*\n\n*\n*1. En 
 lille tur-rygsæk med fyldt drikkedunk\, vanter\, hue og regntøj. Husk  \
 ngodt og varmt fodtøj efter vejret\, vi skal være ude under postløbet\,
   \ntur-rygsækken skal du have med hele dagen.\n\n2. En stor rygsæk med 
 sovepose\, nattøj\, sovedyr\, tandbørste\, tandpasta\,  \nlommelygte og 
 evt. sutsko samt et ekstra sæt tøj. Den store rygsæk bliver  \npå ”B
 orgen”. Der er selvfølgelig navn i alt.\n\nTag varmt tøj på\, det kan
  godt være hundekoldt! \n\nVi har brug for at jeres forældre vil bage b
 oller eller kage til vores  \neftermiddagshygge og morgenmad. \n\n*Weeken
 den koster 150 kr.  *\n\n*\n*\n\n*Spejderhilsen Lederne *\n\n/ /\n\n
URL:https://www.moenspejderne.dk/begivenhed/faelles-gruppeweekend-2026
DTSTART:20260307T090000Z
DTEND:20260308T090000Z
LOCATION:Dehnshytten\, Strandgårdsvej 30\, 4760 Vordingborg
END:VEVENT
BEGIN:VEVENT
UID:gruppeweb.dk:3214:event:935
DTSTAMP:20260425T152400Z
LAST-MODIFIED:20260421T130027Z
SUMMARY:Sct. Georgsdag
DESCRIPTION:\n
URL:https://www.moenspejderne.dk/begivenhed/sct-georgsdag-4
DTSTART:20260423T150000Z
DTEND:20260423T170000Z
LOCATION:Møn Spejderne\, Kobbelvej 28\, 4780 Stege
END:VEVENT
BEGIN:VEVENT
UID:gruppeweb.dk:3214:event:939
DTSTAMP:20260425T152400Z
LAST-MODIFIED:20260419T045922Z
SUMMARY:Loppemarked
DESCRIPTION:Mønspejdernes årlige loppemarked\n\n
URL:https://www.moenspejderne.dk/begivenhed/loppemarked-3
DTSTART:20260606T080000Z
DTEND:20260606T110000Z
LOCATION:Møn Spejderne\, Kobbelvej 28\, 4780 Stege
END:VEVENT
BEGIN:VEVENT
UID:gruppeweb.dk:3214:event:933
DTSTAMP:20260425T152400Z
LAST-MODIFIED:20260209T180817Z
SUMMARY:Spejdernes Lejr 2026 Endelig tilmelding 1. rate
DESCRIPTION:\n\n\n\n\n\n\n\nSommerlejr for Mikro\, mini\, junior\, trop og 
 klan \nI år går turen til en stor fælles sommerlejr\, hvor alle spejde
 rgrupper i  \nDanmark (og udlandet) mødes i Hedeland Naturpark. \nPå Sp
 ejdernes Lejr 2026 kan du møde spejdere fra nabogruppen\, fra hele  \nDan
 mark og fra resten af verden\, mens du laver det\, som du elsker i en skal
 a\,  \nsom du ikke troede var mulig. \nDer er aktiviteter målrettet din 
 aldersgruppe\, og vi lover\, at du får ni  \nuforglemmelige dage med mass
 er af nye venskaber og sjove  \nspejderaktiviteter. \n*Derfor skal du del
 tage:\n*- Synes du\, at det er sjovt at være på ni dages lejrtur med din
   \nspejdergruppe? \n- Synes du\, det er festligt at møde jævnaldrende 
 med samme interesser som  \ndig? \n- Synes du\, det er fedt at blive udfo
 rdret?  Og at overvinde dig selv ved at  \ngøre ting du ikke troede du k
 unne? \n- Synes du\, at tanken om tusindvis af spejdere\, der står samme
 n og synger  \nfællessang er nice? \n- Synes du\, at det er sjovere selv
  at opleve ting end at få dem fortalt af  \nandre? \nKan du svare ja til
  et af de ovenstående spørgsmål\, så er Spejdernes Lejr  \n2026 helt
  sikkert noget for dig! \n\n      \n*Junior\, trop og klan *skal på ful
 d lejr fra 18-26/7-26\n*Mikro  & Mini *skal på halv lejr fra 22-26/7-26\
 nPris for Junior\, trop og klan er 1.975 kr. fordelt på *1. rate 1.200 k
 r.   \n2. rate 750 kr.*\nPris for mikro & mini er 1.200 kr. fordelt på 
 *1. rate 800 kr. 2. rate 400  \nkr.*\n
URL:https://www.moenspejderne.dk/begivenhed/spejdernes-lejr-2026-endelig-ti
 lmelding-1-rate
DTSTART:20260718T100000Z
DTEND:20260726T100000Z
LOCATION:Hedeland Naturpark\, Tranemosevej 2\, 2640 Hedehusene
END:VEVENT
BEGIN:VEVENT
UID:gruppeweb.dk:3214:event:934
DTSTAMP:20260425T152400Z
LAST-MODIFIED:20260209T180759Z
SUMMARY:Spejdernes Lejr 2026 Endelig tilmelding 2. rate
DESCRIPTION:\n\n\n\n\n\n\n\nSommerlejr for Mikro\, mini\, junior\, trop og 
 klan \n*OBS OBS OBS\nDette er betaling af 2. rate. Hvis du ikke har tilme
 ldt dig og betalt 1. rate  \nskal du kontakte en leder.\nDu kan ikke tilme
 lde dig lejren her.*\n\n      \n*Junior\, trop og klan *skal på fuld lej
 r fra 18-26/7-26\n*Mikro  & Mini *skal på halv lejr fra 22-26/7-26\nPris
  for Junior\, trop og klan er 1.975 kr. fordelt på *1. rate 1.200 kr.  
  \n2. rate 750 kr.*\nPris for mikro & mini er 1.200 kr. fordelt på *1. r
 ate 800 kr. 2. rate 400  \nkr.*\n
URL:https://www.moenspejderne.dk/begivenhed/spejdernes-lejr-2026-endelig-ti
 lmelding-2-rate
DTSTART:20260718T100000Z
DTEND:20260726T100000Z
LOCATION:Hedeland Naturpark\, Tranemosevej 2\, 2640 Hedehusene
END:VEVENT
END:VCALENDAR
